BEGIN:VCALENDAR
VERSION:2.0
PRODID:-//Contratero//ES
CALSCALE:GREGORIAN
METHOD:PUBLISH
BEGIN:VEVENT
UID:111/2025/CON@contratero.es
DTSTAMP:20260422T160420Z
DTSTART:20251224T235959
DTEND:20251225T005959
SUMMARY:Cierre: Contrato mixto de suministro\, en régimen de alquil
DESCRIPTION:Contrato mixto de suministro\, en régimen de alquiler\, de una plataforma cloud para la Gestión de Recursos Humanos en el Ayuntamiento de Talavera de la Reina y sus Organismos Autónomos de Cultura e IPE...\\n\\nOrganismo: Junta de Gobierno del Ayuntamiento de Talavera de la Reina\\n\\nVer en Contratero: https://contratero.es/contracts/111/2025/CON
URL:https://contratero.es/contracts/111/2025/CON
STATUS:CONFIRMED
BEGIN:VALARM
TRIGGER:-P1D
ACTION:DISPLAY
DESCRIPTION:Recordatorio: Contrato mixto de suministro\, 
END:VALARM
END:VEVENT
END:VCALENDAR