BEGIN:VCALENDAR
VERSION:2.0
PRODID:-//Contratero//ES
CALSCALE:GREGORIAN
METHOD:PUBLISH
BEGIN:VEVENT
UID:1116/2025@contratero.es
DTSTAMP:20260422T020819Z
DTSTART:20250623T235959
DTEND:20250624T005959
SUMMARY:Cierre: Suministro consistente en la cesión del derecho de
DESCRIPTION:Suministro consistente en la cesión del derecho de uso de la Licencia de la aplicación para la emisión de certificados de empadronamiento mediante kioskos\\n\\nOrganismo: Concejal de Área de Turismo\, Promoción Cultural\, Fiestas\, Mercado\, Desarrollo Tecnológico Y Organismo Autónomo Local del Ayuntamiento de Puerto de la Cruz\\n\\nVer en Contratero: https://contratero.es/contracts/1116/2025
URL:https://contratero.es/contracts/1116/2025
STATUS:CONFIRMED
BEGIN:VALARM
TRIGGER:-P1D
ACTION:DISPLAY
DESCRIPTION:Recordatorio: Suministro consistente en la c
END:VALARM
END:VEVENT
END:VCALENDAR