BEGIN:VCALENDAR
VERSION:2.0
PRODID:-//Contratero//ES
CALSCALE:GREGORIAN
METHOD:PUBLISH
BEGIN:VEVENT
UID:1117706W@contratero.es
DTSTAMP:20260423T103228Z
DTSTART:20241106T235959
DTEND:20241107T005959
SUMMARY:Cierre: Subscripción 10 licencias anuales del IDE de progr
DESCRIPTION:Subscripción 10 licencias anuales del IDE de programación INTELIJ\\n\\nOrganismo: Departamentos del Consell Insular de Mallorca\\n\\nVer en Contratero: https://contratero.es/contracts/1117706W
URL:https://contratero.es/contracts/1117706W
STATUS:CONFIRMED
BEGIN:VALARM
TRIGGER:-P1D
ACTION:DISPLAY
DESCRIPTION:Recordatorio: Subscripción 10 licencias anua
END:VALARM
END:VEVENT
END:VCALENDAR