BEGIN:VCALENDAR
VERSION:2.0
PRODID:-//Contratero//ES
CALSCALE:GREGORIAN
METHOD:PUBLISH
BEGIN:VEVENT
UID:1118208R@contratero.es
DTSTAMP:20260421T220336Z
DTSTART:20241227T235959
DTEND:20241228T005959
SUMMARY:Cierre: Servicio de antivirus integral y otros servicios d
DESCRIPTION:Servicio de antivirus integral y otros servicios de ciberseguridad 2025-2028.\\n\\nOrganismo: Departamentos del Consell Insular de Mallorca\\n\\nVer en Contratero: https://contratero.es/contracts/1118208R
URL:https://contratero.es/contracts/1118208R
STATUS:CONFIRMED
BEGIN:VALARM
TRIGGER:-P1D
ACTION:DISPLAY
DESCRIPTION:Recordatorio: Servicio de antivirus integral
END:VALARM
END:VEVENT
END:VCALENDAR