BEGIN:VCALENDAR
VERSION:2.0
PRODID:-//Contratero//ES
CALSCALE:GREGORIAN
METHOD:PUBLISH
BEGIN:VEVENT
UID:112/25@contratero.es
DTSTAMP:20260420T050741Z
DTSTART:20251223T235959
DTEND:20251224T005959
SUMMARY:Cierre: Oficina Técnica de Apoyo a la Plataforma Inteligen
DESCRIPTION:Oficina Técnica de Apoyo a la Plataforma Inteligente de Destino (PID) Málaga PIDM 2024. Proyecto financiado por la Unión Europea- Next Generation EU en el marco del Plan de Recuperación\, Transformació...\\n\\nOrganismo: Junta de Gobierno del Ayuntamiento de Málaga\\n\\nVer en Contratero: https://contratero.es/contracts/112/25
URL:https://contratero.es/contracts/112/25
STATUS:CONFIRMED
BEGIN:VALARM
TRIGGER:-P1D
ACTION:DISPLAY
DESCRIPTION:Recordatorio: Oficina Técnica de Apoyo a la 
END:VALARM
END:VEVENT
END:VCALENDAR