BEGIN:VCALENDAR
VERSION:2.0
PRODID:-//Contratero//ES
CALSCALE:GREGORIAN
METHOD:PUBLISH
BEGIN:VEVENT
UID:11201/2022@contratero.es
DTSTAMP:20260422T221237Z
DTSTART:20221223T235959
DTEND:20221224T005959
SUMMARY:Cierre: mantenimiento del software de videoacta
DESCRIPTION:mantenimiento del software de videoacta\\n\\nOrganismo: Junta de Gobierno del Ayuntamiento de Villajoyosa\\n\\nVer en Contratero: https://contratero.es/contracts/11201/2022
URL:https://contratero.es/contracts/11201/2022
STATUS:CONFIRMED
BEGIN:VALARM
TRIGGER:-P1D
ACTION:DISPLAY
DESCRIPTION:Recordatorio: mantenimiento del software de 
END:VALARM
END:VEVENT
END:VCALENDAR