BEGIN:VCALENDAR
VERSION:2.0
PRODID:-//Contratero//ES
CALSCALE:GREGORIAN
METHOD:PUBLISH
BEGIN:VEVENT
UID:11224009@contratero.es
DTSTAMP:20260424T174907Z
DTSTART:20240917T235959
DTEND:20240918T005959
SUMMARY:Cierre: Servicio de soporte del Sistema Integrado de Gesti
DESCRIPTION:Servicio de soporte del Sistema Integrado de Gestión Bibliotecaria KOHA y mantenimiento web para el Catálogo Colectivo del Organismo Autónomo Parques Nacionales 2024.\\n\\nOrganismo: Organismo Autónomo Parques Nacionales\\n\\nVer en Contratero: https://contratero.es/contracts/11224009
URL:https://contratero.es/contracts/11224009
STATUS:CONFIRMED
BEGIN:VALARM
TRIGGER:-P1D
ACTION:DISPLAY
DESCRIPTION:Recordatorio: Servicio de soporte del Sistem
END:VALARM
END:VEVENT
END:VCALENDAR