BEGIN:VCALENDAR
VERSION:2.0
PRODID:-//Contratero//ES
CALSCALE:GREGORIAN
METHOD:PUBLISH
BEGIN:VEVENT
UID:11224026@contratero.es
DTSTAMP:20260420T145849Z
DTSTART:20250120T235959
DTEND:20250121T005959
SUMMARY:Cierre: Servicio de soporte del sistema integrado de gesti
DESCRIPTION:Servicio de soporte del sistema integrado de gestión bibliotecaria KOHA y mantenimiento web para el Catálogo Colectivo del Organismo Autónomo Parques Nacionales. 2024.\\n\\nOrganismo: Organismo Autónomo Parques Nacionales\\n\\nVer en Contratero: https://contratero.es/contracts/11224026
URL:https://contratero.es/contracts/11224026
STATUS:CONFIRMED
BEGIN:VALARM
TRIGGER:-P1D
ACTION:DISPLAY
DESCRIPTION:Recordatorio: Servicio de soporte del sistem
END:VALARM
END:VEVENT
END:VCALENDAR