BEGIN:VCALENDAR
VERSION:2.0
PRODID:-//Contratero//ES
CALSCALE:GREGORIAN
METHOD:PUBLISH
BEGIN:VEVENT
UID:1125.23F@contratero.es
DTSTAMP:20260420T071834Z
DTSTART:20260217T235959
DTEND:20260218T005959
SUMMARY:Cierre: Creación y coordinación de  Oficina Técnica de pro
DESCRIPTION:Creación y coordinación de  Oficina Técnica de proyecto para garantizar los planes de sensibilización\, dinamización\, formación\, difusión y comunicación y diseño gráfico de la interfaz para implementac...\\n\\nOrganismo: Presidencia de la Diputación Provincial de Cáceres\\n\\nVer en Contratero: https://contratero.es/contracts/1125.23F
URL:https://contratero.es/contracts/1125.23F
STATUS:CONFIRMED
BEGIN:VALARM
TRIGGER:-P1D
ACTION:DISPLAY
DESCRIPTION:Recordatorio: Creación y coordinación de  Of
END:VALARM
END:VEVENT
END:VCALENDAR