BEGIN:VCALENDAR
VERSION:2.0
PRODID:-//Contratero//ES
CALSCALE:GREGORIAN
METHOD:PUBLISH
BEGIN:VEVENT
UID:113/2025@contratero.es
DTSTAMP:20260423T004600Z
DTSTART:20251110T235959
DTEND:20251111T005959
SUMMARY:Cierre: Servicio de desarrollo\, integración\, mantenimiento
DESCRIPTION:Servicio de desarrollo\, integración\, mantenimiento y soporte de una plataforma de gestión de datos\, explotación y divulgación de información para el observatorio de residuos municipales del Principado...\\n\\nOrganismo: Consejo de Administración de la Compañía para la Gestión de Residuos Sólidos en Asturias S.A.\\n\\nVer en Contratero: https://contratero.es/contracts/113/2025
URL:https://contratero.es/contracts/113/2025
STATUS:CONFIRMED
BEGIN:VALARM
TRIGGER:-P1D
ACTION:DISPLAY
DESCRIPTION:Recordatorio: Servicio de desarrollo\, integr
END:VALARM
END:VEVENT
END:VCALENDAR