BEGIN:VCALENDAR
VERSION:2.0
PRODID:-//Contratero//ES
CALSCALE:GREGORIAN
METHOD:PUBLISH
BEGIN:VEVENT
UID:11306/2025@contratero.es
DTSTAMP:20260421T161411Z
DTSTART:20251204T235959
DTEND:20251205T005959
SUMMARY:Cierre: Servicio de mantenimiento\, soporte\, evolución de G
DESCRIPTION:Servicio de mantenimiento\, soporte\, evolución de GADE DIGITAL y de sus módulos asociados.\\n\\nOrganismo: Junta de Gobierno del Ayuntamiento de la Leal Villa de El Escorial\\n\\nVer en Contratero: https://contratero.es/contracts/11306/2025
URL:https://contratero.es/contracts/11306/2025
STATUS:CONFIRMED
BEGIN:VALARM
TRIGGER:-P1D
ACTION:DISPLAY
DESCRIPTION:Recordatorio: Servicio de mantenimiento\, sop
END:VALARM
END:VEVENT
END:VCALENDAR