BEGIN:VCALENDAR
VERSION:2.0
PRODID:-//Contratero//ES
CALSCALE:GREGORIAN
METHOD:PUBLISH
BEGIN:VEVENT
UID:114/2025@contratero.es
DTSTAMP:20260421T235946Z
DTSTART:20260105T235959
DTEND:20260106T005959
SUMMARY:Cierre: Contratación del Suministro de licencias software 
DESCRIPTION:Contratación del Suministro de licencias software para la realización del procedimiento de transformación digital de la Empresa Nacional de Innovación\, S.M.E.\, S.A.\\n\\nOrganismo: Consejo de Administración de Empresa Nacional de Innovación S.M.E.\, S.A. (ENISA)\\n\\nVer en Contratero: https://contratero.es/contracts/114/2025
URL:https://contratero.es/contracts/114/2025
STATUS:CONFIRMED
BEGIN:VALARM
TRIGGER:-P1D
ACTION:DISPLAY
DESCRIPTION:Recordatorio: Contratación del Suministro de
END:VALARM
END:VEVENT
END:VCALENDAR