BEGIN:VCALENDAR
VERSION:2.0
PRODID:-//Contratero//ES
CALSCALE:GREGORIAN
METHOD:PUBLISH
BEGIN:VEVENT
UID:1148/2024@contratero.es
DTSTAMP:20260422T062827Z
DTSTART:20240801T235959
DTEND:20240802T005959
SUMMARY:Cierre: Servicio de digitalización de la documentación del
DESCRIPTION:Servicio de digitalización de la documentación del archivo municipal de Felanitx\\n\\nOrganismo: Junta de Gobierno del Ayuntamiento de Felanitx\\n\\nVer en Contratero: https://contratero.es/contracts/1148/2024
URL:https://contratero.es/contracts/1148/2024
STATUS:CONFIRMED
BEGIN:VALARM
TRIGGER:-P1D
ACTION:DISPLAY
DESCRIPTION:Recordatorio: Servicio de digitalización de 
END:VALARM
END:VEVENT
END:VCALENDAR