BEGIN:VCALENDAR
VERSION:2.0
PRODID:-//Contratero//ES
CALSCALE:GREGORIAN
METHOD:PUBLISH
BEGIN:VEVENT
UID:1156/2022@contratero.es
DTSTAMP:20260421T222553Z
DTSTART:20220512T235959
DTEND:20220513T005959
SUMMARY:Cierre: Mantenimiento de la IDE mediante el software GVSIG
DESCRIPTION:Mantenimiento de la IDE mediante el software GVSIG ONLINE - MOVILE del Ayuntamiento de Náquera\\n\\nOrganismo: Alcaldía del Ayuntamiento de Náquera\\n\\nVer en Contratero: https://contratero.es/contracts/1156/2022
URL:https://contratero.es/contracts/1156/2022
STATUS:CONFIRMED
BEGIN:VALARM
TRIGGER:-P1D
ACTION:DISPLAY
DESCRIPTION:Recordatorio: Mantenimiento de la IDE median
END:VALARM
END:VEVENT
END:VCALENDAR