BEGIN:VCALENDAR
VERSION:2.0
PRODID:-//Contratero//ES
CALSCALE:GREGORIAN
METHOD:PUBLISH
BEGIN:VEVENT
UID:1159/2022@contratero.es
DTSTAMP:20260423T194729Z
DTSTART:20230116T235959
DTEND:20230117T005959
SUMMARY:Cierre: Suministro y rediseño\, mantenimiento y prestación 
DESCRIPTION:Suministro y rediseño\, mantenimiento y prestación del servicio integral de web corporativa\, intranet y extranet del Ayuntamiento de Salamanca\\n\\nOrganismo: Alcaldía del Ayuntamiento de Salamanca\\n\\nVer en Contratero: https://contratero.es/contracts/1159/2022
URL:https://contratero.es/contracts/1159/2022
STATUS:CONFIRMED
BEGIN:VALARM
TRIGGER:-P1D
ACTION:DISPLAY
DESCRIPTION:Recordatorio: Suministro y rediseño\, manteni
END:VALARM
END:VEVENT
END:VCALENDAR