BEGIN:VCALENDAR
VERSION:2.0
PRODID:-//Contratero//ES
CALSCALE:GREGORIAN
METHOD:PUBLISH
BEGIN:VEVENT
UID:1161184F@contratero.es
DTSTAMP:20260420T064129Z
DTSTART:20251111T235959
DTEND:20251112T005959
SUMMARY:Cierre: Suministro software de gestión digital del control
DESCRIPTION:Suministro software de gestión digital del control de calidad del agua en el libro de piscinas y envío de informes SILOE al Ministerio de Sanidad del Ayuntamiento de Alcantarilla\\n\\nOrganismo: Alcaldía del Ayuntamiento de Alcantarilla\\n\\nVer en Contratero: https://contratero.es/contracts/1161184F
URL:https://contratero.es/contracts/1161184F
STATUS:CONFIRMED
BEGIN:VALARM
TRIGGER:-P1D
ACTION:DISPLAY
DESCRIPTION:Recordatorio: Suministro software de gestión
END:VALARM
END:VEVENT
END:VCALENDAR