BEGIN:VCALENDAR
VERSION:2.0
PRODID:-//Contratero//ES
CALSCALE:GREGORIAN
METHOD:PUBLISH
BEGIN:VEVENT
UID:11705/2023@contratero.es
DTSTAMP:20260425T111511Z
DTSTART:20240820T235959
DTEND:20240821T005959
SUMMARY:Cierre: El presente pliego tiene por objeto la contratació
DESCRIPTION:El presente pliego tiene por objeto la contratación del suministro de la licencia de\nuso de la integración y los trabajos de consultoría e implantación derivados\, necesarios\npara dar respuesta a los...\\n\\nOrganismo: Alcaldía del Ayuntamiento de Güímar\\n\\nVer en Contratero: https://contratero.es/contracts/11705/2023
URL:https://contratero.es/contracts/11705/2023
STATUS:CONFIRMED
BEGIN:VALARM
TRIGGER:-P1D
ACTION:DISPLAY
DESCRIPTION:Recordatorio: El presente pliego tiene por o
END:VALARM
END:VEVENT
END:VCALENDAR