BEGIN:VCALENDAR
VERSION:2.0
PRODID:-//Contratero//ES
CALSCALE:GREGORIAN
METHOD:PUBLISH
BEGIN:VEVENT
UID:118/2024/01@contratero.es
DTSTAMP:20260425T125243Z
DTSTART:20251002T235959
DTEND:20251003T005959
SUMMARY:Cierre: Diseño e Instalación de una Plataforma de Destino 
DESCRIPTION:Diseño e Instalación de una Plataforma de Destino Turístico Basada en Inteligencia Artificial Generativa y de un Punto de Información Turística Digital\\n\\nOrganismo: Alcalde del Ayuntamiento de Jaraba\\n\\nVer en Contratero: https://contratero.es/contracts/118/2024/01
URL:https://contratero.es/contracts/118/2024/01
STATUS:CONFIRMED
BEGIN:VALARM
TRIGGER:-P1D
ACTION:DISPLAY
DESCRIPTION:Recordatorio: Diseño e Instalación de una Pl
END:VALARM
END:VEVENT
END:VCALENDAR