BEGIN:VCALENDAR
VERSION:2.0
PRODID:-//Contratero//ES
CALSCALE:GREGORIAN
METHOD:PUBLISH
BEGIN:VEVENT
UID:1189310W@contratero.es
DTSTAMP:20260424T221523Z
DTSTART:20231013T235959
DTEND:20231014T005959
SUMMARY:Cierre: Suministro de 50 licencias de Microsoft 365
DESCRIPTION:Suministro de 50 licencias de Microsoft 365\\n\\nOrganismo: Organismo Autónomo de Gestión Tributaria y Recaudación de la Diputación Provincial de Cuenca\\n\\nVer en Contratero: https://contratero.es/contracts/1189310W
URL:https://contratero.es/contracts/1189310W
STATUS:CONFIRMED
BEGIN:VALARM
TRIGGER:-P1D
ACTION:DISPLAY
DESCRIPTION:Recordatorio: Suministro de 50 licencias de 
END:VALARM
END:VEVENT
END:VCALENDAR