BEGIN:VCALENDAR
VERSION:2.0
PRODID:-//Contratero//ES
CALSCALE:GREGORIAN
METHOD:PUBLISH
BEGIN:VEVENT
UID:1198-2020@contratero.es
DTSTAMP:20260423T080924Z
DTSTART:20200623T235959
DTEND:20200624T005959
SUMMARY:Cierre: Instalación\, puesta en marcha y mantenimiento de u
DESCRIPTION:Instalación\, puesta en marcha y mantenimiento de una red Wifi\\n\\nOrganismo: Concejalia Delegada de Contratación del Ayuntamiento de Teror\\n\\nVer en Contratero: https://contratero.es/contracts/1198-2020
URL:https://contratero.es/contracts/1198-2020
STATUS:CONFIRMED
BEGIN:VALARM
TRIGGER:-P1D
ACTION:DISPLAY
DESCRIPTION:Recordatorio: Instalación\, puesta en marcha 
END:VALARM
END:VEVENT
END:VCALENDAR