BEGIN:VCALENDAR
VERSION:2.0
PRODID:-//Contratero//ES
CALSCALE:GREGORIAN
METHOD:PUBLISH
BEGIN:VEVENT
UID:11L2025.SAPA.3.1.1.0021@contratero.es
DTSTAMP:20260423T135725Z
DTSTART:20250603T235959
DTEND:20250604T005959
SUMMARY:Cierre: La contratación de los servicios profesionales nec
DESCRIPTION:La contratación de los servicios profesionales necesarios para el diseño\, desarrollo\, puesta en marcha y mantenimiento técnico (no de contenidos) del portal web en Internet del Parlamento de Cantabria...\\n\\nOrganismo: Mesa-Comisión de Gobierno del Parlamento de Cantabria\\n\\nVer en Contratero: https://contratero.es/contracts/11L2025.SAPA.3.1.1.0021
URL:https://contratero.es/contracts/11L2025.SAPA.3.1.1.0021
STATUS:CONFIRMED
BEGIN:VALARM
TRIGGER:-P1D
ACTION:DISPLAY
DESCRIPTION:Recordatorio: La contratación de los servici
END:VALARM
END:VEVENT
END:VCALENDAR