BEGIN:VCALENDAR
VERSION:2.0
PRODID:-//Contratero//ES
CALSCALE:GREGORIAN
METHOD:PUBLISH
BEGIN:VEVENT
UID:12/20@contratero.es
DTSTAMP:20260421T204347Z
DTSTART:20230324T235959
DTEND:20230325T005959
SUMMARY:Cierre: Servicios de asistencia técnica y mantenimiento de
DESCRIPTION:Servicios de asistencia técnica y mantenimiento del equipo plóter Canon IPF 785 Archivo municipal de Arroyomolinos.\\n\\nOrganismo: Junta de Gobierno del Ayuntamiento de Arroyomolinos\\n\\nVer en Contratero: https://contratero.es/contracts/12/20
URL:https://contratero.es/contracts/12/20
STATUS:CONFIRMED
BEGIN:VALARM
TRIGGER:-P1D
ACTION:DISPLAY
DESCRIPTION:Recordatorio: Servicios de asistencia técnic
END:VALARM
END:VEVENT
END:VCALENDAR