BEGIN:VCALENDAR
VERSION:2.0
PRODID:-//Contratero//ES
CALSCALE:GREGORIAN
METHOD:PUBLISH
BEGIN:VEVENT
UID:12/2026@contratero.es
DTSTAMP:20260419T144139Z
DTSTART:20260123T235959
DTEND:20260124T005959
SUMMARY:Cierre: Suministro de uso\, mediante renovación anual\, de l
DESCRIPTION:Suministro de uso\, mediante renovación anual\, de las siguientes licencias de software para la ADRBalears:\n- Renovación de 7 licencias de Adobe Creative Cloud.\n -Renovación de la suscripción de 1 Ado...\\n\\nOrganismo: Agencia de Desarrollo Regional de las Illes Balears\\n\\nVer en Contratero: https://contratero.es/contracts/12/2026
URL:https://contratero.es/contracts/12/2026
STATUS:CONFIRMED
BEGIN:VALARM
TRIGGER:-P1D
ACTION:DISPLAY
DESCRIPTION:Recordatorio: Suministro de uso\, mediante re
END:VALARM
END:VEVENT
END:VCALENDAR