BEGIN:VCALENDAR
VERSION:2.0
PRODID:-//Contratero//ES
CALSCALE:GREGORIAN
METHOD:PUBLISH
BEGIN:VEVENT
UID:121/2019@contratero.es
DTSTAMP:20260424T184227Z
DTSTART:20190227T235959
DTEND:20190228T005959
SUMMARY:Cierre: Soporte y Mantenimiento de la Aplicación de Gestió
DESCRIPTION:Soporte y Mantenimiento de la Aplicación de Gestión de Expedientes Sede Electrónica Segundo Semestre 2019\\n\\nOrganismo: Concejalía de Contratación del Ayuntamiento de Palencia\\n\\nVer en Contratero: https://contratero.es/contracts/121/2019
URL:https://contratero.es/contracts/121/2019
STATUS:CONFIRMED
BEGIN:VALARM
TRIGGER:-P1D
ACTION:DISPLAY
DESCRIPTION:Recordatorio: Soporte y Mantenimiento de la 
END:VALARM
END:VEVENT
END:VCALENDAR