BEGIN:VCALENDAR
VERSION:2.0
PRODID:-//Contratero//ES
CALSCALE:GREGORIAN
METHOD:PUBLISH
BEGIN:VEVENT
UID:1215/2023@contratero.es
DTSTAMP:20260423T011214Z
DTSTART:20230502T235959
DTEND:20230503T005959
SUMMARY:Cierre: Servicios de soporte y mantenimiento del software 
DESCRIPTION:Servicios de soporte y mantenimiento del software de gestión SGBGest (programa de Compras).\\n\\nOrganismo: Alcaldía del Ayuntamiento de Gibraleón\\n\\nVer en Contratero: https://contratero.es/contracts/1215/2023
URL:https://contratero.es/contracts/1215/2023
STATUS:CONFIRMED
BEGIN:VALARM
TRIGGER:-P1D
ACTION:DISPLAY
DESCRIPTION:Recordatorio: Servicios de soporte y manteni
END:VALARM
END:VEVENT
END:VCALENDAR