BEGIN:VCALENDAR
VERSION:2.0
PRODID:-//Contratero//ES
CALSCALE:GREGORIAN
METHOD:PUBLISH
BEGIN:VEVENT
UID:12168/2024@contratero.es
DTSTAMP:20260423T041719Z
DTSTART:20241205T235959
DTEND:20241206T005959
SUMMARY:Cierre: suministro y mantenimiento de las licencias de uso
DESCRIPTION:suministro y mantenimiento de las licencias de uso de la aplicación informática de Gestión policial (Vinfopol software policial)(C-2024/087)\\n\\nOrganismo: Junta de Gobierno Local del Ayuntamiento de Alcalá de Guadaíra\\n\\nVer en Contratero: https://contratero.es/contracts/12168/2024
URL:https://contratero.es/contracts/12168/2024
STATUS:CONFIRMED
BEGIN:VALARM
TRIGGER:-P1D
ACTION:DISPLAY
DESCRIPTION:Recordatorio: suministro y mantenimiento de 
END:VALARM
END:VEVENT
END:VCALENDAR