BEGIN:VCALENDAR
VERSION:2.0
PRODID:-//Contratero//ES
CALSCALE:GREGORIAN
METHOD:PUBLISH
BEGIN:VEVENT
UID:1223/2024@contratero.es
DTSTAMP:20260422T200710Z
DTSTART:20240516T235959
DTEND:20240517T005959
SUMMARY:Cierre: Suministro de licencias de diseño asistido por ord
DESCRIPTION:Suministro de licencias de diseño asistido por ordenador (CAD) del fabricante AUTODESK para Servicios Técnicos del Ayuntamiento de San Martín de la Vega\, incluyendo actualizaciones\, suscripciones y so...\\n\\nOrganismo: Junta de Gobierno del Ayuntamiento de San Martín de la Vega\\n\\nVer en Contratero: https://contratero.es/contracts/1223/2024
URL:https://contratero.es/contracts/1223/2024
STATUS:CONFIRMED
BEGIN:VALARM
TRIGGER:-P1D
ACTION:DISPLAY
DESCRIPTION:Recordatorio: Suministro de licencias de dis
END:VALARM
END:VEVENT
END:VCALENDAR