BEGIN:VCALENDAR
VERSION:2.0
PRODID:-//Contratero//ES
CALSCALE:GREGORIAN
METHOD:PUBLISH
BEGIN:VEVENT
UID:12306@contratero.es
DTSTAMP:20260424T221407Z
DTSTART:20240531T235959
DTEND:20240601T005959
SUMMARY:Cierre: Servicio de soporte y mantenimiento de la aplicaci
DESCRIPTION:Servicio de soporte y mantenimiento de la aplicación de “Expedientes y Sede Electrónica”\\n\\nOrganismo: Concejalía de Contratación del Ayuntamiento de Palencia\\n\\nVer en Contratero: https://contratero.es/contracts/12306
URL:https://contratero.es/contracts/12306
STATUS:CONFIRMED
BEGIN:VALARM
TRIGGER:-P1D
ACTION:DISPLAY
DESCRIPTION:Recordatorio: Servicio de soporte y mantenim
END:VALARM
END:VEVENT
END:VCALENDAR