BEGIN:VCALENDAR
VERSION:2.0
PRODID:-//Contratero//ES
CALSCALE:GREGORIAN
METHOD:PUBLISH
BEGIN:VEVENT
UID:1238/2025@contratero.es
DTSTAMP:20260423T232409Z
DTSTART:20251110T235959
DTEND:20251111T005959
SUMMARY:Cierre: Suscripción de copias de seguridad en la nube comp
DESCRIPTION:Suscripción de copias de seguridad en la nube compatible con sistema propio interno para la Autoridad Portuaria de la Bahía de Cádiz (CA-069-25)\\n\\nOrganismo: Presidencia de la Autoridad Portuaria de la Bahía de Cádiz\\n\\nVer en Contratero: https://contratero.es/contracts/1238/2025
URL:https://contratero.es/contracts/1238/2025
STATUS:CONFIRMED
BEGIN:VALARM
TRIGGER:-P1D
ACTION:DISPLAY
DESCRIPTION:Recordatorio: Suscripción de copias de segur
END:VALARM
END:VEVENT
END:VCALENDAR