BEGIN:VCALENDAR
VERSION:2.0
PRODID:-//Contratero//ES
CALSCALE:GREGORIAN
METHOD:PUBLISH
BEGIN:VEVENT
UID:124/25@contratero.es
DTSTAMP:20260421T053804Z
DTSTART:20251008T235959
DTEND:20251009T005959
SUMMARY:Cierre: Servicio de mantenimiento del sistema de gestión t
DESCRIPTION:Servicio de mantenimiento del sistema de gestión tributaria y de la app de gestión de multas\\n\\nOrganismo: Junta de Gobierno del Ayuntamiento de Santander\\n\\nVer en Contratero: https://contratero.es/contracts/124/25
URL:https://contratero.es/contracts/124/25
STATUS:CONFIRMED
BEGIN:VALARM
TRIGGER:-P1D
ACTION:DISPLAY
DESCRIPTION:Recordatorio: Servicio de mantenimiento del 
END:VALARM
END:VEVENT
END:VCALENDAR