BEGIN:VCALENDAR
VERSION:2.0
PRODID:-//Contratero//ES
CALSCALE:GREGORIAN
METHOD:PUBLISH
BEGIN:VEVENT
UID:12448/2024@contratero.es
DTSTAMP:20260420T032501Z
DTSTART:20240626T235959
DTEND:20240627T005959
SUMMARY:Cierre: Servicio de correo electrónico y herramientas cola
DESCRIPTION:Servicio de correo electrónico y herramientas colaborativas mediante un modelo SAAS (software as service) software como servicio para el desarrollo de los servicios prestados por la Sociedad Municipal...\\n\\nOrganismo: Consejero de la Sociedad Municipal para el Desarrollo de Arucas S.A.\\n\\nVer en Contratero: https://contratero.es/contracts/12448/2024
URL:https://contratero.es/contracts/12448/2024
STATUS:CONFIRMED
BEGIN:VALARM
TRIGGER:-P1D
ACTION:DISPLAY
DESCRIPTION:Recordatorio: Servicio de correo electrónico
END:VALARM
END:VEVENT
END:VCALENDAR