BEGIN:VCALENDAR
VERSION:2.0
PRODID:-//Contratero//ES
CALSCALE:GREGORIAN
METHOD:PUBLISH
BEGIN:VEVENT
UID:1255/2026@contratero.es
DTSTAMP:20260419T233405Z
DTSTART:20260406T235959
DTEND:20260407T005959
SUMMARY:Cierre: Contrato de suministro para la implantación de la 
DESCRIPTION:Contrato de suministro para la implantación de la ruta turística "Arte Funerario de Ayamonte"\, en herramienta de guiado de la plataforma de turismo Aumentur.\\n\\nOrganismo: Alcaldia del Ayuntamiento de Ayamonte\\n\\nVer en Contratero: https://contratero.es/contracts/1255/2026
URL:https://contratero.es/contracts/1255/2026
STATUS:CONFIRMED
BEGIN:VALARM
TRIGGER:-P1D
ACTION:DISPLAY
DESCRIPTION:Recordatorio: Contrato de suministro para la
END:VALARM
END:VEVENT
END:VCALENDAR