BEGIN:VCALENDAR
VERSION:2.0
PRODID:-//Contratero//ES
CALSCALE:GREGORIAN
METHOD:PUBLISH
BEGIN:VEVENT
UID:1276057C/2024@contratero.es
DTSTAMP:20260424T033730Z
DTSTART:20240605T235959
DTEND:20240606T005959
SUMMARY:Cierre: Suministro de software antivirus para la Comarca d
DESCRIPTION:Suministro de software antivirus para la Comarca de Hoya de Huesca/Plana de Uesca por procedimiento abierto simplificado.\\n\\nOrganismo: Presidencia de la Comarca Hoya de Huesca - Plana de Uesca\\n\\nVer en Contratero: https://contratero.es/contracts/1276057C/2024
URL:https://contratero.es/contracts/1276057C/2024
STATUS:CONFIRMED
BEGIN:VALARM
TRIGGER:-P1D
ACTION:DISPLAY
DESCRIPTION:Recordatorio: Suministro de software antivir
END:VALARM
END:VEVENT
END:VCALENDAR