BEGIN:VCALENDAR
VERSION:2.0
PRODID:-//Contratero//ES
CALSCALE:GREGORIAN
METHOD:PUBLISH
BEGIN:VEVENT
UID:12786J/2026@contratero.es
DTSTAMP:20260420T072002Z
DTSTART:20260220T235959
DTEND:20260221T005959
SUMMARY:Cierre: PRTR - Transformación digital y unificación de los
DESCRIPTION:PRTR - Transformación digital y unificación de los sistemas de supervisión y control de la Empresa Municipal de Aguas de Gijón\, que cuenta con financiación europea NextGenerationEU\, a través del Plan ...\\n\\nOrganismo: Consejo de Administración de la Empresa Municipal de Aguas de Gijón SA\\n\\nVer en Contratero: https://contratero.es/contracts/12786J/2026
URL:https://contratero.es/contracts/12786J/2026
STATUS:CONFIRMED
BEGIN:VALARM
TRIGGER:-P1D
ACTION:DISPLAY
DESCRIPTION:Recordatorio: PRTR - Transformación digital 
END:VALARM
END:VEVENT
END:VCALENDAR