BEGIN:VCALENDAR
VERSION:2.0
PRODID:-//Contratero//ES
CALSCALE:GREGORIAN
METHOD:PUBLISH
BEGIN:VEVENT
UID:128/25@contratero.es
DTSTAMP:20260420T102549Z
DTSTART:20251003T235959
DTEND:20251004T005959
SUMMARY:Cierre: Suministro del UPGRADE PERMANENTE de las licencias
DESCRIPTION:Suministro del UPGRADE PERMANENTE de las licencias de Data Protector Enterprise\\n\\nOrganismo: Junta de Gobierno del Ayuntamiento de Santander\\n\\nVer en Contratero: https://contratero.es/contracts/128/25
URL:https://contratero.es/contracts/128/25
STATUS:CONFIRMED
BEGIN:VALARM
TRIGGER:-P1D
ACTION:DISPLAY
DESCRIPTION:Recordatorio: Suministro del UPGRADE PERMANE
END:VALARM
END:VEVENT
END:VCALENDAR