BEGIN:VCALENDAR
VERSION:2.0
PRODID:-//Contratero//ES
CALSCALE:GREGORIAN
METHOD:PUBLISH
BEGIN:VEVENT
UID:1284/2025@contratero.es
DTSTAMP:20260421T002026Z
DTSTART:20251016T235959
DTEND:20251017T005959
SUMMARY:Cierre: Renovación de los sistemas informáticos centrales 
DESCRIPTION:Renovación de los sistemas informáticos centrales de la Autoridad Portuaria de Vigo. SUM- 211\\n\\nOrganismo: Autoridad Portuaria de Vigo\\n\\nVer en Contratero: https://contratero.es/contracts/1284/2025
URL:https://contratero.es/contracts/1284/2025
STATUS:CONFIRMED
BEGIN:VALARM
TRIGGER:-P1D
ACTION:DISPLAY
DESCRIPTION:Recordatorio: Renovación de los sistemas inf
END:VALARM
END:VEVENT
END:VCALENDAR