BEGIN:VCALENDAR
VERSION:2.0
PRODID:-//Contratero//ES
CALSCALE:GREGORIAN
METHOD:PUBLISH
BEGIN:VEVENT
UID:1287138R@contratero.es
DTSTAMP:20260424T085641Z
DTSTART:20240507T235959
DTEND:20240508T005959
SUMMARY:Cierre: Suministro 45 licencias de uso de una plataforma a
DESCRIPTION:Suministro 45 licencias de uso de una plataforma avanzada de Ciberseguridad en modo cloud computing\\n\\nOrganismo: Organismo Autónomo de Gestión Tributaria y Recaudación de la Diputación Provincial de Cuenca\\n\\nVer en Contratero: https://contratero.es/contracts/1287138R
URL:https://contratero.es/contracts/1287138R
STATUS:CONFIRMED
BEGIN:VALARM
TRIGGER:-P1D
ACTION:DISPLAY
DESCRIPTION:Recordatorio: Suministro 45 licencias de uso
END:VALARM
END:VEVENT
END:VCALENDAR