BEGIN:VCALENDAR
VERSION:2.0
PRODID:-//Contratero//ES
CALSCALE:GREGORIAN
METHOD:PUBLISH
BEGIN:VEVENT
UID:13-2024@contratero.es
DTSTAMP:20260425T205934Z
DTSTART:20240405T235959
DTEND:20240406T005959
SUMMARY:Cierre: Servicio de asistencia técnica para la realización
DESCRIPTION:Servicio de asistencia técnica para la realización y gestión audiovisual y de streaming del Consejo Económico y Social (CES)\\n\\nOrganismo: Presidencia del Consejo Económico y Social\\n\\nVer en Contratero: https://contratero.es/contracts/13-2024
URL:https://contratero.es/contracts/13-2024
STATUS:CONFIRMED
BEGIN:VALARM
TRIGGER:-P1D
ACTION:DISPLAY
DESCRIPTION:Recordatorio: Servicio de asistencia técnica
END:VALARM
END:VEVENT
END:VCALENDAR