BEGIN:VCALENDAR
VERSION:2.0
PRODID:-//Contratero//ES
CALSCALE:GREGORIAN
METHOD:PUBLISH
BEGIN:VEVENT
UID:1300-2023@contratero.es
DTSTAMP:20260422T020819Z
DTSTART:20231211T235959
DTEND:20231212T005959
SUMMARY:Cierre: Contratación del desarrollo y puesta en funcionami
DESCRIPTION:Contratación del desarrollo y puesta en funcionamiento de una plataforma de comunicación y gestión ambiental y reservas deportivas del ayuntamiento de Estivella\\n\\nOrganismo: Alcaldía del Ayuntamiento de Estivella\\n\\nVer en Contratero: https://contratero.es/contracts/1300-2023
URL:https://contratero.es/contracts/1300-2023
STATUS:CONFIRMED
BEGIN:VALARM
TRIGGER:-P1D
ACTION:DISPLAY
DESCRIPTION:Recordatorio: Contratación del desarrollo y 
END:VALARM
END:VEVENT
END:VCALENDAR