BEGIN:VCALENDAR
VERSION:2.0
PRODID:-//Contratero//ES
CALSCALE:GREGORIAN
METHOD:PUBLISH
BEGIN:VEVENT
UID:13005/2024@contratero.es
DTSTAMP:20260422T025010Z
DTSTART:20240925T235959
DTEND:20240926T005959
SUMMARY:Cierre: Servicio de consultoría\, diseño y desarrollo de au
DESCRIPTION:Servicio de consultoría\, diseño y desarrollo de automatización de procesos en la Administración Regional de la CARM.\\n\\nOrganismo: Consejería de Economía\, Hacienda\, Fondos Europeos y Transformación Digital de la Región de Murcia\\n\\nVer en Contratero: https://contratero.es/contracts/13005/2024
URL:https://contratero.es/contracts/13005/2024
STATUS:CONFIRMED
BEGIN:VALARM
TRIGGER:-P1D
ACTION:DISPLAY
DESCRIPTION:Recordatorio: Servicio de consultoría\, diseñ
END:VALARM
END:VEVENT
END:VCALENDAR