BEGIN:VCALENDAR
VERSION:2.0
PRODID:-//Contratero//ES
CALSCALE:GREGORIAN
METHOD:PUBLISH
BEGIN:VEVENT
UID:13021/2025@contratero.es
DTSTAMP:20260421T132914Z
DTSTART:20250907T235959
DTEND:20250908T005959
SUMMARY:Cierre: Contratación centralizada de Servicios de Infraest
DESCRIPTION:Contratación centralizada de Servicios de Infraestructura Informática de la CARM (CRISOL3).\\n\\nOrganismo: Consejería de Economía\, Hacienda\, Fondos Europeos y Transformación Digital de la Región de Murcia\\n\\nVer en Contratero: https://contratero.es/contracts/13021/2025
URL:https://contratero.es/contracts/13021/2025
STATUS:CONFIRMED
BEGIN:VALARM
TRIGGER:-P1D
ACTION:DISPLAY
DESCRIPTION:Recordatorio: Contratación centralizada de S
END:VALARM
END:VEVENT
END:VCALENDAR