BEGIN:VCALENDAR
VERSION:2.0
PRODID:-//Contratero//ES
CALSCALE:GREGORIAN
METHOD:PUBLISH
BEGIN:VEVENT
UID:1310284P@contratero.es
DTSTAMP:20260422T102514Z
DTSTART:20231120T235959
DTEND:20231121T005959
SUMMARY:Cierre: Servicio de soporte y mantenimiento de la aplicaci
DESCRIPTION:Servicio de soporte y mantenimiento de la aplicación informática de gestión tributaria y contabilización.\\n\\nOrganismo: Junta de Gobierno del Ayuntamiento de Guadassuar\\n\\nVer en Contratero: https://contratero.es/contracts/1310284P
URL:https://contratero.es/contracts/1310284P
STATUS:CONFIRMED
BEGIN:VALARM
TRIGGER:-P1D
ACTION:DISPLAY
DESCRIPTION:Recordatorio: Servicio de soporte y mantenim
END:VALARM
END:VEVENT
END:VCALENDAR