BEGIN:VCALENDAR
VERSION:2.0
PRODID:-//Contratero//ES
CALSCALE:GREGORIAN
METHOD:PUBLISH
BEGIN:VEVENT
UID:13125PASS@contratero.es
DTSTAMP:20260419T183153Z
DTSTART:20260114T235959
DTEND:20260115T005959
SUMMARY:Cierre: Soporte y Mantenimiento de Licencias de productos 
DESCRIPTION:Soporte y Mantenimiento de Licencias de productos SAP para Canal Extremadura\\n\\nOrganismo: Dirección General de la Corporación Extremeña de Medios Audiovisuales\\n\\nVer en Contratero: https://contratero.es/contracts/13125PASS
URL:https://contratero.es/contracts/13125PASS
STATUS:CONFIRMED
BEGIN:VALARM
TRIGGER:-P1D
ACTION:DISPLAY
DESCRIPTION:Recordatorio: Soporte y Mantenimiento de Lic
END:VALARM
END:VEVENT
END:VCALENDAR