BEGIN:VCALENDAR
VERSION:2.0
PRODID:-//Contratero//ES
CALSCALE:GREGORIAN
METHOD:PUBLISH
BEGIN:VEVENT
UID:13158/2018@contratero.es
DTSTAMP:20260424T184233Z
DTSTART:20200819T235959
DTEND:20200820T005959
SUMMARY:Cierre: Puesta a disposición\, aseguramiento de la operativ
DESCRIPTION:Puesta a disposición\, aseguramiento de la operatividad mediante las actualizaciones correspondientes y el soporte post implantación necesario de un Sistema Integral de Gestión Electrónica para el Ayun...\\n\\nOrganismo: Junta de Gobierno del Ayuntamiento de Orihuela\\n\\nVer en Contratero: https://contratero.es/contracts/13158/2018
URL:https://contratero.es/contracts/13158/2018
STATUS:CONFIRMED
BEGIN:VALARM
TRIGGER:-P1D
ACTION:DISPLAY
DESCRIPTION:Recordatorio: Puesta a disposición\, aseguram
END:VALARM
END:VEVENT
END:VCALENDAR