BEGIN:VCALENDAR
VERSION:2.0
PRODID:-//Contratero//ES
CALSCALE:GREGORIAN
METHOD:PUBLISH
BEGIN:VEVENT
UID:1323/2023@contratero.es
DTSTAMP:20260422T102641Z
DTSTART:20231124T235959
DTEND:20231125T005959
SUMMARY:Cierre: Adquisición y mantenimiento software gestión de re
DESCRIPTION:Adquisición y mantenimiento software gestión de residencias: RESIPLUS\\n\\nOrganismo: Junta de Gobierno del Ayuntamiento de Andorra\\n\\nVer en Contratero: https://contratero.es/contracts/1323/2023
URL:https://contratero.es/contracts/1323/2023
STATUS:CONFIRMED
BEGIN:VALARM
TRIGGER:-P1D
ACTION:DISPLAY
DESCRIPTION:Recordatorio: Adquisición y mantenimiento so
END:VALARM
END:VEVENT
END:VCALENDAR