BEGIN:VCALENDAR
VERSION:2.0
PRODID:-//Contratero//ES
CALSCALE:GREGORIAN
METHOD:PUBLISH
BEGIN:VEVENT
UID:1327/2020@contratero.es
DTSTAMP:20260425T031046Z
DTSTART:20200605T235959
DTEND:20200606T005959
SUMMARY:Cierre: Servicios de genotipado y censo canino del Ayuntam
DESCRIPTION:Servicios de genotipado y censo canino del Ayuntamiento de Meco\\n\\nOrganismo: Alcaldía del Ayuntamiento de Meco\\n\\nVer en Contratero: https://contratero.es/contracts/1327/2020
URL:https://contratero.es/contracts/1327/2020
STATUS:CONFIRMED
BEGIN:VALARM
TRIGGER:-P1D
ACTION:DISPLAY
DESCRIPTION:Recordatorio: Servicios de genotipado y cens
END:VALARM
END:VEVENT
END:VCALENDAR