BEGIN:VCALENDAR
VERSION:2.0
PRODID:-//Contratero//ES
CALSCALE:GREGORIAN
METHOD:PUBLISH
BEGIN:VEVENT
UID:1329/2021@contratero.es
DTSTAMP:20260422T070915Z
DTSTART:20211130T235959
DTEND:20211201T005959
SUMMARY:Cierre: Suministro de almacenamiento para Cloud Backup
DESCRIPTION:Suministro de almacenamiento para Cloud Backup\\n\\nOrganismo: Presidencia de la Autoridad Portuaria de Pasaia\\n\\nVer en Contratero: https://contratero.es/contracts/1329/2021
URL:https://contratero.es/contracts/1329/2021
STATUS:CONFIRMED
BEGIN:VALARM
TRIGGER:-P1D
ACTION:DISPLAY
DESCRIPTION:Recordatorio: Suministro de almacenamiento p
END:VALARM
END:VEVENT
END:VCALENDAR