BEGIN:VCALENDAR
VERSION:2.0
PRODID:-//Contratero//ES
CALSCALE:GREGORIAN
METHOD:PUBLISH
BEGIN:VEVENT
UID:133/2022-CONTR@contratero.es
DTSTAMP:20260420T061728Z
DTSTART:20230103T235959
DTEND:20230104T005959
SUMMARY:Cierre: Servicio para la gestión de la venta de entradas p
DESCRIPTION:Servicio para la gestión de la venta de entradas para los eventos programados por el Ayuntamiento de Fuengirola.\\n\\nOrganismo: Junta de Gobierno del Ayuntamiento de Fuengirola\\n\\nVer en Contratero: https://contratero.es/contracts/133/2022-CONTR
URL:https://contratero.es/contracts/133/2022-CONTR
STATUS:CONFIRMED
BEGIN:VALARM
TRIGGER:-P1D
ACTION:DISPLAY
DESCRIPTION:Recordatorio: Servicio para la gestión de la
END:VALARM
END:VEVENT
END:VCALENDAR