BEGIN:VCALENDAR
VERSION:2.0
PRODID:-//Contratero//ES
CALSCALE:GREGORIAN
METHOD:PUBLISH
BEGIN:VEVENT
UID:1337/2025@contratero.es
DTSTAMP:20260423T191218Z
DTSTART:20251110T235959
DTEND:20251111T005959
SUMMARY:Cierre: Renovación del mantenimiento/suscripción del equip
DESCRIPTION:Renovación del mantenimiento/suscripción del equipamiento de la plataforma tecnológica de virtualización para la Autoridad Portuaria de la Bahía de Cádiz (CA-076-25)\\n\\nOrganismo: Presidencia de la Autoridad Portuaria de la Bahía de Cádiz\\n\\nVer en Contratero: https://contratero.es/contracts/1337/2025
URL:https://contratero.es/contracts/1337/2025
STATUS:CONFIRMED
BEGIN:VALARM
TRIGGER:-P1D
ACTION:DISPLAY
DESCRIPTION:Recordatorio: Renovación del mantenimiento/s
END:VALARM
END:VEVENT
END:VCALENDAR