BEGIN:VCALENDAR
VERSION:2.0
PRODID:-//Contratero//ES
CALSCALE:GREGORIAN
METHOD:PUBLISH
BEGIN:VEVENT
UID:1346924D@contratero.es
DTSTAMP:20260421T184416Z
DTSTART:20251215T235959
DTEND:20251216T005959
SUMMARY:Cierre: Suministro\, implementación y soporte de una aplica
DESCRIPTION:Suministro\, implementación y soporte de una aplicación en modalidad SaaS (Software as a Service) para la gestión de un canal de denuncias.\\n\\nOrganismo: Departamentos del Consell Insular de Mallorca\\n\\nVer en Contratero: https://contratero.es/contracts/1346924D
URL:https://contratero.es/contracts/1346924D
STATUS:CONFIRMED
BEGIN:VALARM
TRIGGER:-P1D
ACTION:DISPLAY
DESCRIPTION:Recordatorio: Suministro\, implementación y s
END:VALARM
END:VEVENT
END:VCALENDAR